BEGIN:VCALENDAR
VERSION:2.0
PRODID:-//Tukios.com/
BEGIN:VEVENT
UID:b4b0ce13-45f1-482a-88e4-d1f405297650@www.mcswain-evans.com
DTSTAMP:20260421T192245Z
DTSTART:20260424T210000Z
DTEND:20260424T230000Z
SUMMARY:Visitation
DESCRIPTION:
URL:https://www.mcswain-evans.com/obituaries/aleita-suber
LOCATION: 1724 Main Street  Newberry SC 29108
GEO:34.2764509;-81.6131407
END:VEVENT
END:VCALENDAR