BEGIN:VCALENDAR
VERSION:2.0
PRODID:-//Tukios.com/
BEGIN:VEVENT
UID:30231185-92ff-4308-96d0-82d7e3d77d5b@www.mcswain-evans.com
DTSTAMP:20260421T192351Z
DTSTART:20260425T180000Z
DTEND:20260425T190000Z
SUMMARY:Funeral Service
DESCRIPTION:
URL:https://www.mcswain-evans.com/obituaries/aleita-suber
LOCATION:McSwain-Evans Funeral Home Chapel 1724 Main Street  Newberry SC 
	29108
GEO:34.2764509;-81.6131407
END:VEVENT
END:VCALENDAR