BEGIN:VCALENDAR
VERSION:2.0
PRODID:-//Tukios.com/
BEGIN:VEVENT
UID:f1501197-4c27-4d7c-b827-42ffe0f6c3e2@www.mcswain-evans.com
DTSTAMP:20260424T004341Z
DTSTART:20260426T200000Z
DTEND:20260426T210000Z
SUMMARY:Funeral Service, Burial and Visitaton
DESCRIPTION:
URL:https://www.mcswain-evans.com/obituaries/ernie-counts
LOCATION:St. James Lutheran Church 228 Jalapa Road  Newberry SC 29108
GEO:34.3475889;-81.686167
END:VEVENT
END:VCALENDAR