BEGIN:VCALENDAR
VERSION:2.0
PRODID:-//Tukios.com/
BEGIN:VEVENT
UID:29bad798-ad9e-49aa-832f-e6e1e0b2649f@www.mcswain-evans.com
DTSTAMP:20260422T211816Z
DTSTART:20260427T150000Z
DTEND:20260427T160000Z
SUMMARY:Funeral Service
DESCRIPTION:
URL:https://www.mcswain-evans.com/obituaries/sherrill-higgins
LOCATION:McSwain-Evans Funeral Home Chapel 1724 Main Street  Newberry SC 
	29108
GEO:34.2764509;-81.6131407
END:VEVENT
END:VCALENDAR