BEGIN:VCALENDAR
VERSION:2.0
PRODID:-//Tukios.com/
BEGIN:VEVENT
UID:1af7c1b0-df5a-42cd-89bb-c63a6d6bf265@www.mcswain-evans.com
DTSTAMP:20260422T212329Z
DTSTART:20260428T034500Z
DTEND:20260428T044500Z
SUMMARY:Burial
DESCRIPTION:
URL:https://www.mcswain-evans.com/obituaries/sherrill-higgins
LOCATION: 2699 College St  Newberry SC 29108
GEO:34.288747;-81.6216457
END:VEVENT
END:VCALENDAR