BEGIN:VCALENDAR
VERSION:2.0
PRODID:-//Tukios.com/
BEGIN:VEVENT
UID:4b3d1212-79d0-4c46-a7d9-30af8e58fde3@www.mcswain-evans.com
DTSTAMP:20260421T225534Z
DTSTART:20260426T180000Z
DTEND:20260426T190000Z
SUMMARY:Visitation
DESCRIPTION:
URL:https://www.mcswain-evans.com/obituaries/violet-perry
LOCATION:McSwain-Evans Funeral Home Chapel 1724 Main Street  Newberry SC 
	29108
GEO:34.2764509;-81.6131407
END:VEVENT
END:VCALENDAR