BEGIN:VCALENDAR
VERSION:2.0
PRODID:-//Tukios.com/
BEGIN:VEVENT
UID:43db83b3-cac2-448b-8cbd-f16269092962@www.mcswain-evans.com
DTSTAMP:20260421T225528Z
DTSTART:20260426T190000Z
DTEND:20260426T200000Z
SUMMARY:Funeral Service
DESCRIPTION:
URL:https://www.mcswain-evans.com/obituaries/violet-perry
LOCATION:McSwain-Evans Funeral Home Chapel 1724 Main Street  Newberry SC 
	29108
GEO:34.2764509;-81.6131407
END:VEVENT
END:VCALENDAR