BEGIN:VCALENDAR
VERSION:2.0
PRODID:-//Tukios.com/
BEGIN:VEVENT
UID:2eb0a27d-f52e-4ccf-b979-99cc0de4a140@www.mcswain-evans.com
DTSTAMP:20260421T225309Z
DTSTART:20260426
SUMMARY:Burial
DESCRIPTION:
URL:https://www.mcswain-evans.com/obituaries/violet-perry
LOCATION: 15127 C.R.Koon Highway  Newberry SC 29108
GEO:34.2646762;-81.5822675
END:VEVENT
END:VCALENDAR